BEGIN:VCALENDAR
VERSION:2.0
PRODID:-//Barbados Manufacturers&#039; Association - ECPv5.8.1//NONSGML v1.0//EN
CALSCALE:GREGORIAN
METHOD:PUBLISH
X-WR-CALNAME:Barbados Manufacturers&#039; Association
X-ORIGINAL-URL:https://bma.bb
X-WR-CALDESC:Events for Barbados Manufacturers&#039; Association
BEGIN:VTIMEZONE
TZID:America/Halifax
BEGIN:DAYLIGHT
TZOFFSETFROM:-0400
TZOFFSETTO:-0300
TZNAME:ADT
DTSTART:20210314T060000
END:DAYLIGHT
BEGIN:STANDARD
TZOFFSETFROM:-0300
TZOFFSETTO:-0400
TZNAME:AST
DTSTART:20211107T050000
END:STANDARD
END:VTIMEZONE
BEGIN:VEVENT
DTSTART;TZID=America/Halifax:20210714T130000
DTEND;TZID=America/Halifax:20210714T143000
DTSTAMP:20210813T144336
CREATED:20210714T135829Z
LAST-MODIFIED:20210714T160631Z
UID:3951-1626267600-1626273000@bma.bb
SUMMARY:Front of Package Labelling Virtual Session
DESCRIPTION:“Front Of Package Labelling” Virtual Session   \n\n\n\n\n\n\n	\n		\n		FacebookTwitterLinkedInPinterest
URL:https://bma.bb/event/front-of-package-labelling-virtual-session/
ATTACH;FMTTYPE=image/png:https://bma.bb/wp-content/uploads/2021/07/image002.png
END:VEVENT
END:VCALENDAR